BEGIN:VCALENDAR
VERSION:2.0
PRODID:-//wp-events-plugin.com//6.6.3//EN
TZID:Europe/Vienna
X-WR-TIMEZONE:Europe/Vienna
BEGIN:VEVENT
UID:8@frauen-netzwerk.at
DTSTART;TZID=Europe/Vienna:20240606T170000
DTEND;TZID=Europe/Vienna:20240606T193000
DTSTAMP:20251115T205614Z
URL:https://www.frauen-netzwerk.at/veranstaltungen/after-work-networking/
SUMMARY:After Work Networking
DESCRIPTION:Verbinden - Netzwerken - Impulse...am 06. Juni findet das erste
  After Work Networking Event statt. Ab 17h steht unsere Tür im LFN-Büro 
 für euch offen\, lasst uns gemeinsam in den Feierabend starten. Für das 
 leibliche Wohl ist gesorgt. Für Inspiration sorgt Sonia Sagmeister (WKS O
 bfrau Direktvertrieb) mit einem Impulsvortrag zum Thema Networking. Wir fr
 euen uns auf euch :)!
ATTACH;FMTTYPE=image/jpeg:https://www.frauen-netzwerk.at/wp-content/upload
 s/2024/05/AfterWork_Flyer-m3uZzaimam.jpg
CATEGORIES:Veranstaltung
LOCATION:LFN-Büro\, Amtsgasse 11\, Tamsweg\, 5580\, Österreich
GEO:47.126164;13.812254
X-APPLE-STRUCTURED-LOCATION;VALUE=URI;X-ADDRESS=Amtsgasse 11\, Tamsweg\, 55
 80\, Österreich;X-APPLE-RADIUS=100;X-TITLE=LFN-Büro:geo:47.126164,13.812
 254
END:VEVENT
BEGIN:VTIMEZONE
TZID:Europe/Vienna
X-LIC-LOCATION:Europe/Vienna
BEGIN:DAYLIGHT
DTSTART:20240331T030000
TZOFFSETFROM:+0100
TZOFFSETTO:+0200
TZNAME:CEST
END:DAYLIGHT
END:VTIMEZONE
END:VCALENDAR