BEGIN:VCALENDAR
VERSION:2.0
PRODID:-//wp-events-plugin.com//6.6.3//EN
TZID:Europe/Vienna
X-WR-TIMEZONE:Europe/Vienna
BEGIN:VEVENT
UID:27@frauen-netzwerk.at
DTSTART;TZID=Europe/Vienna:20250318T090000
DTEND;TZID=Europe/Vienna:20250318T110000
DTSTAMP:20251115T210046Z
URL:https://www.frauen-netzwerk.at/veranstaltungen/deutsch-lern-treff-maer
 z/
SUMMARY:Deutsch.Lern.Treff März
DESCRIPTION:Einladung zum Deutsch-Lern-Treff\nMöchtest du deine Deutschken
 ntnisse verbessern und neue Leute kennenlernen? Dann lade ich dich herzlic
 h zu unserem Deutsch-Lern-Treff ein!\nWann: 18.03.2025 | 09:00 - 11:00 Uhr
 Wo: Q4\, Postplatz 4 in Tamsweg\nEgal\, ob du gerade erst mit dem Deutschl
 ernen beginnst oder schon fortgeschritten bist – unser Treffen bietet di
 r eine entspannte Atmosphäre\, in der du sprechen\, üben und mehr über 
 die deutsche Sprache und Kultur erfahren kannst.\nEs wird eine tolle Geleg
 enheit sein\, deine Sprachfähigkeiten in lockerer Runde zu erweitern und 
 gleichzeitig andere Lernende zu treffen. Komm vorbei\, wir freuen uns auf 
 dich!\nBitte gib uns Bescheid\, wenn du teilnehmen möchtest\, damit wir b
 esser planen können.\nWir sehen uns beim Deutsch-Lern-Treff!\nHerzliche G
 rüße\,Dein LFN
ATTACH;FMTTYPE=image/jpeg:https://www.frauen-netzwerk.at/wp-content/upload
 s/2025/01/FlyerDLTMaerz.jpg
CATEGORIES:Veranstaltung
LOCATION:Q4\,  Postplatz 4\, Tamsweg\, 5580\, Österreich
GEO:47.126731;13.808928
X-APPLE-STRUCTURED-LOCATION;VALUE=URI;X-ADDRESS= Postplatz 4\, Tamsweg\, 55
 80\, Österreich;X-APPLE-RADIUS=100;X-TITLE=Q4:geo:47.126731,13.808928
END:VEVENT
BEGIN:VTIMEZONE
TZID:Europe/Vienna
X-LIC-LOCATION:Europe/Vienna
BEGIN:STANDARD
DTSTART:20241027T020000
TZOFFSETFROM:+0200
TZOFFSETTO:+0100
TZNAME:CET
END:STANDARD
END:VTIMEZONE
END:VCALENDAR