BEGIN:VCALENDAR
VERSION:2.0
PRODID:-//wp-events-plugin.com//6.6.3//EN
TZID:Europe/Vienna
X-WR-TIMEZONE:Europe/Vienna
BEGIN:VEVENT
UID:25@frauen-netzwerk.at
DTSTART;TZID=Europe/Vienna:20250121T090000
DTEND;TZID=Europe/Vienna:20250121T110000
DTSTAMP:20251115T210030Z
URL:https://www.frauen-netzwerk.at/veranstaltungen/deutsch-lern-treff/
SUMMARY:Deutsch.Lern.Treff Januar
DESCRIPTION:Einladung zum Deutsch-Lern-Treff\nMöchtest du deine Deutschken
 ntnisse verbessern und neue Leute kennenlernen? Dann lade ich dich herzlic
 h zu unserem Deutsch-Lern-Treff ein!\nWann: 21.01.2025 | 09:00 - 11:00 Uhr
 Wo: LFN-Büro\, Amtsgasse 11 in Tamsweg\nEgal\, ob du gerade erst mit dem 
 Deutschlernen beginnst oder schon fortgeschritten bist – unser Treffen b
 ietet dir eine entspannte Atmosphäre\, in der du sprechen\, üben und meh
 r über die deutsche Sprache und Kultur erfahren kannst.\nEs wird eine tol
 le Gelegenheit sein\, deine Sprachfähigkeiten in lockerer Runde zu erweit
 ern und gleichzeitig andere Lernende zu treffen. Komm vorbei\, wir freuen 
 uns auf dich!\nBitte gib uns Bescheid\, wenn du teilnehmen möchtest\, dam
 it wir besser planen können.\nWir sehen uns beim Deutsch-Lern-Treff!\nHer
 zliche Grüße\,Dein LFN
ATTACH;FMTTYPE=image/jpeg:https://www.frauen-netzwerk.at/wp-content/upload
 s/2024/12/Deutsch-Lern-Treff-Flyer-Jaenner.jpg
CATEGORIES:Veranstaltung
LOCATION:LFN-Büro\, Amtsgasse 11\, Tamsweg\, 5580\, Österreich
GEO:47.126164;13.812254
X-APPLE-STRUCTURED-LOCATION;VALUE=URI;X-ADDRESS=Amtsgasse 11\, Tamsweg\, 55
 80\, Österreich;X-APPLE-RADIUS=100;X-TITLE=LFN-Büro:geo:47.126164,13.812
 254
END:VEVENT
BEGIN:VTIMEZONE
TZID:Europe/Vienna
X-LIC-LOCATION:Europe/Vienna
BEGIN:STANDARD
DTSTART:20241027T020000
TZOFFSETFROM:+0200
TZOFFSETTO:+0100
TZNAME:CET
END:STANDARD
END:VTIMEZONE
END:VCALENDAR