BEGIN:VCALENDAR
VERSION:2.0
PRODID:-//wp-events-plugin.com//6.6.3//EN
TZID:Europe/Vienna
X-WR-TIMEZONE:Europe/Vienna
BEGIN:VEVENT
UID:47@frauen-netzwerk.at
DTSTART;TZID=Europe/Vienna:20250930T190000
DTEND;TZID=Europe/Vienna:20250930T210000
DTSTAMP:20251115T210509Z
URL:https://www.frauen-netzwerk.at/veranstaltungen/ernaehrung-workshop/
SUMMARY:Frauengesundheit &amp\; Hormone | Online-Vortrag
DESCRIPTION:Unsere Hormone begleiten uns durch alle Lebensphasen. Doch was 
 oft im Alltag fehlt\, ist Klarheit: Wie beeinflussen Hormone unser Wohlbef
 inden? Welche Rolle spielen Ernährung\, Lebensstil und Stress? Was kannst
  du selbst tun\, um in Balance zu kommen? In diesem Vortrag bekommst du ne
 ben fundiertem Wissen auch praxisnahe Tipps.
ATTACH;FMTTYPE=image/jpeg:https://www.frauen-netzwerk.at/wp-content/upload
 s/2025/08/7.jpg
CATEGORIES:Veranstaltung
END:VEVENT
BEGIN:VTIMEZONE
TZID:Europe/Vienna
X-LIC-LOCATION:Europe/Vienna
BEGIN:DAYLIGHT
DTSTART:20250330T030000
TZOFFSETFROM:+0100
TZOFFSETTO:+0200
TZNAME:CEST
END:DAYLIGHT
END:VTIMEZONE
END:VCALENDAR