BEGIN:VCALENDAR
VERSION:2.0
PRODID:-//wp-events-plugin.com//6.6.3//EN
TZID:Europe/Vienna
X-WR-TIMEZONE:Europe/Vienna
BEGIN:VEVENT
UID:17@frauen-netzwerk.at
DTSTART;TZID=Europe/Vienna:20240927T183000
DTEND;TZID=Europe/Vienna:20240927T203000
DTSTAMP:20251115T205849Z
URL:https://www.frauen-netzwerk.at/veranstaltungen/fuehl-dich-sicher-works
 hop/
SUMMARY:Fühl-dich-sicher-Workshop
DESCRIPTION:Sicher durch den Alltag: Im Fühl-dich-sicher-Workshop mit Bezi
 rksinspektorin Sarah Dankl lernst du\, wie du deine Selbstbehauptung stär
 ken und dich sicherer im öffentlichen Raum bewegen kannst.Mit praxisnahen
  Tipps und Übungen vermittelt dir die erfahrene Polizistin\, wie du Gefah
 rensituationen frühzeitig erkennst und selbstbewusst handelst.
ATTACH;FMTTYPE=image/jpeg:https://www.frauen-netzwerk.at/wp-content/upload
 s/2024/08/Sicherheit-im-oeffentlichen-Raum-l8GzZ5vOBu.jpg
CATEGORIES:Veranstaltung
LOCATION:Polizeiinspektion Tamsweg\, Gartengasse 5\, Tamsweg\, 5580\, Öste
 rreich
GEO:47.125708;13.812767
X-APPLE-STRUCTURED-LOCATION;VALUE=URI;X-ADDRESS=Gartengasse 5\, Tamsweg\, 5
 580\, Österreich;X-APPLE-RADIUS=100;X-TITLE=Polizeiinspektion Tamsweg:geo
 :47.125708,13.812767
END:VEVENT
BEGIN:VTIMEZONE
TZID:Europe/Vienna
X-LIC-LOCATION:Europe/Vienna
BEGIN:DAYLIGHT
DTSTART:20240331T030000
TZOFFSETFROM:+0100
TZOFFSETTO:+0200
TZNAME:CEST
END:DAYLIGHT
END:VTIMEZONE
END:VCALENDAR