BEGIN:VCALENDAR
VERSION:2.0
PRODID:-//wp-events-plugin.com//6.6.3//EN
TZID:Europe/Vienna
X-WR-TIMEZONE:Europe/Vienna
BEGIN:VEVENT
UID:56@frauen-netzwerk.at
DTSTART;TZID=Europe/Vienna:20251004T090000
DTEND;TZID=Europe/Vienna:20251004T120000
DTSTAMP:20251210T132636Z
URL:https://www.frauen-netzwerk.at/veranstaltungen/improvisations-workshop
 /
SUMMARY:Improvisationsworkshop | Workshop
DESCRIPTION:Spontanität üben\, Kreativität entfalten und Selbstvertrauen
  gewinnen – das steht im Mittelpunkt des Improvisationsworkshops mit Mar
 cella Wieland. Spielerische Übungen eröffnen neue Perspektiven und mache
 n Mut\, den Moment zu genießen. Sichere dir jetzt deinen Platz!
ATTACH;FMTTYPE=image/jpeg:https://www.frauen-netzwerk.at/wp-content/upload
 s/2025/09/impro_webseite.jpg
CATEGORIES:Veranstaltung
LOCATION:Q4\,  Postplatz 4\, Tamsweg\, 5580\, Österreich
GEO:47.126731;13.808928
X-APPLE-STRUCTURED-LOCATION;VALUE=URI;X-ADDRESS= Postplatz 4\, Tamsweg\, 55
 80\, Österreich;X-APPLE-RADIUS=100;X-TITLE=Q4:geo:47.126731,13.808928
END:VEVENT
BEGIN:VTIMEZONE
TZID:Europe/Vienna
X-LIC-LOCATION:Europe/Vienna
BEGIN:DAYLIGHT
DTSTART:20250330T030000
TZOFFSETFROM:+0100
TZOFFSETTO:+0200
TZNAME:CEST
END:DAYLIGHT
END:VTIMEZONE
END:VCALENDAR