BEGIN:VCALENDAR
VERSION:2.0
PRODID:-//wp-events-plugin.com//6.6.3//EN
TZID:Europe/Vienna
X-WR-TIMEZONE:Europe/Vienna
BEGIN:VEVENT
UID:37@frauen-netzwerk.at
DTSTART;TZID=Europe/Vienna:20250428T180000
DTEND;TZID=Europe/Vienna:20250428T200000
DTSTAMP:20251115T210252Z
URL:https://www.frauen-netzwerk.at/veranstaltungen/infoabend-trauer/
SUMMARY:Trauer und ihre Facetten - Infoabend
DESCRIPTION:Trauer und ihre Facetten\nInfoabend mit Roswitha Piringer\nNur 
 einen Wimpernschlag entfernt...\nNach einem schicksalhaften Einbruch in i
 hrem Leben liegt es Roswitha Piringer sehr am Herzen\, Menschen in ähnlic
 hen Situationen die Hand zu reichen und sie aus dem Schmerz von Trauer und
  Trennung wieder zurück ins bewusste Leben zu begleiten.\nThemen des Aben
 ds:\n\nWas Trauer ist und wie sie das Leben verändert\nDie vier Säulen d
 er Trauer (Isolierung\, Emotionen\, das Suchen und Trennen\, die Neuorient
 ierung) und wie wir mit ihrer Hilfe einen neuen Weg finden können\nAusbli
 ck auf kommende Angebote zum Thema Trauer\n\nWeitere Infos zu Roswitha Pir
 inger und ihrer Arbeit findet ihr hier: www.roswithas-energie.at\nWann: 28
 .04.2025 | 18:00 UhrWo: LFN | Amtsgasse 11 | 5580 Tamsweg
ATTACH;FMTTYPE=image/jpeg:https://www.frauen-netzwerk.at/wp-content/upload
 s/2025/04/Infoveranstaltung-Trauer-A5.jpg
CATEGORIES:Veranstaltung
LOCATION:LFN-Büro\, Amtsgasse 11\, Tamsweg\, 5580\, Österreich
GEO:47.126164;13.812254
X-APPLE-STRUCTURED-LOCATION;VALUE=URI;X-ADDRESS=Amtsgasse 11\, Tamsweg\, 55
 80\, Österreich;X-APPLE-RADIUS=100;X-TITLE=LFN-Büro:geo:47.126164,13.812
 254
END:VEVENT
BEGIN:VTIMEZONE
TZID:Europe/Vienna
X-LIC-LOCATION:Europe/Vienna
BEGIN:DAYLIGHT
DTSTART:20250330T030000
TZOFFSETFROM:+0100
TZOFFSETTO:+0200
TZNAME:CEST
END:DAYLIGHT
END:VTIMEZONE
END:VCALENDAR