BEGIN:VCALENDAR
VERSION:2.0
PRODID:-//wp-events-plugin.com//6.6.3//EN
TZID:Europe/Vienna
X-WR-TIMEZONE:Europe/Vienna
BEGIN:VEVENT
UID:19@frauen-netzwerk.at
DTSTART;TZID=Europe/Vienna:20241125T180000
DTEND;TZID=Europe/Vienna:20241125T200000
DTSTAMP:20251115T205905Z
URL:https://www.frauen-netzwerk.at/veranstaltungen/lichtermarsch-gegen-gew
 alt/
SUMMARY:Lichtermarsch gegen Gewalt
DESCRIPTION:In Österreich erlebt jede dritte Frau Gewalt – ein erschreck
 endes und untragbares Problem\, das unsere gesamte Gesellschaft betrifft. 
 Gemeinsam wollen wir ein Zeichen setzen und Solidarität zeigen!\nWann?25.
  November 2024\, 18 Uhr\nWo?Marktplatz in Tamsweg\nWarum?Weil Gewalt gegen
  Frauen nicht im Dunkeln bleiben darf. Mit unserem Lichtermarsch wollen wi
 r das Bewusstsein schärfen und Betroffenen unsere Unterstützung zeigen. 
 Setzen wir ein sichtbares Zeichen!\nSei dabei!Lass uns gemeinsam das Schwe
 igen brechen und für eine Welt ohne Gewalt eintreten.\nGemeinsam sind wir
  stark. Gemeinsam leuchten wir heller.
ATTACH;FMTTYPE=image/jpeg:https://www.frauen-netzwerk.at/wp-content/upload
 s/2024/09/Lichtermarsch-QmmhaxaGxS.jpg
CATEGORIES:Veranstaltung
LOCATION:Marktplatz Tamsweg\, Markt  \, Tamsweg\, 5580\, Österreich
GEO:47.179176;13.849333
X-APPLE-STRUCTURED-LOCATION;VALUE=URI;X-ADDRESS=Markt  \, Tamsweg\, 5580\, 
 Österreich;X-APPLE-RADIUS=100;X-TITLE=Marktplatz Tamsweg:geo:47.179176,13
 .849333
END:VEVENT
BEGIN:VTIMEZONE
TZID:Europe/Vienna
X-LIC-LOCATION:Europe/Vienna
BEGIN:STANDARD
DTSTART:20241027T020000
TZOFFSETFROM:+0200
TZOFFSETTO:+0100
TZNAME:CET
END:STANDARD
END:VTIMEZONE
END:VCALENDAR