BEGIN:VCALENDAR
VERSION:2.0
PRODID:-//wp-events-plugin.com//6.6.3//EN
TZID:Europe/Vienna
X-WR-TIMEZONE:Europe/Vienna
BEGIN:VEVENT
UID:18@frauen-netzwerk.at
DTSTART;TZID=Europe/Vienna:20241011T190000
DTEND;TZID=Europe/Vienna:20241011T210000
DTSTAMP:20251115T205857Z
URL:https://www.frauen-netzwerk.at/veranstaltungen/lieder-atur-abend-schwe
 ster-stern-2/
SUMMARY:Lieder-atur-Abend Schwester Stern
DESCRIPTION:Mit Veronika Sophie Klammer &amp\; Fidi Moser. Schwester Stern 
 ist ein vielschichtiges multimediales Kunstprojekt\, das sich eingehend mi
 t den Thematiken Verlust\, Traumafolgen\, Dissoziation und Stigmatisierung
  auseinandersetzt. 8 Lieder aus dem Buch werden live gesungen und mit Gita
 rre begleitet von Veronika Klammer - Es liest in Auszügen Fidi Moser.
ATTACH;FMTTYPE=image/jpeg:https://www.frauen-netzwerk.at/wp-content/upload
 s/2024/09/Schwester-Stern-LiederaturAbend-LiMCc9usFU.jpg
CATEGORIES:Veranstaltung
LOCATION:LFN-Büro\, Amtsgasse 11\, Tamsweg\, 5580\, Österreich
GEO:47.126164;13.812254
X-APPLE-STRUCTURED-LOCATION;VALUE=URI;X-ADDRESS=Amtsgasse 11\, Tamsweg\, 55
 80\, Österreich;X-APPLE-RADIUS=100;X-TITLE=LFN-Büro:geo:47.126164,13.812
 254
END:VEVENT
BEGIN:VTIMEZONE
TZID:Europe/Vienna
X-LIC-LOCATION:Europe/Vienna
BEGIN:DAYLIGHT
DTSTART:20240331T030000
TZOFFSETFROM:+0100
TZOFFSETTO:+0200
TZNAME:CEST
END:DAYLIGHT
END:VTIMEZONE
END:VCALENDAR