BEGIN:VCALENDAR
VERSION:2.0
PRODID:-//wp-events-plugin.com//6.6.3//EN
TZID:Europe/Vienna
X-WR-TIMEZONE:Europe/Vienna
BEGIN:VEVENT
UID:14@frauen-netzwerk.at
DTSTART;TZID=Europe/Vienna:20240823T190000
DTEND;TZID=Europe/Vienna:20240823T210000
DTSTAMP:20251115T205814Z
URL:https://www.frauen-netzwerk.at/veranstaltungen/lieder-atur-abend-schwe
 ster-stern/
SUMMARY:Lieder-atur-abend  SCHWESTER STERN
DESCRIPTION:!!! ACHTUNG - der Termin wird verschoben !!!\n\nmit Veronika So
 phie Klammer &amp\; Fidi Moser.\n\nSchwester Stern ist ein vielschichtiges
  multimediales Kunstprojekt\, das\nsich eingehend mit den Thematiken Verlu
 st\, Traumafolgen\, Dissoziation und Stigmatisierung auseinandersetzt.\n\n
 8 Lieder aus dem Buch werden live\ngesungen und mit Gitarre begleitet von 
 Veronika Klammer -\nEs liest in Auszügen\nFidi Moser
ATTACH;FMTTYPE=image/jpeg:https://www.frauen-netzwerk.at/wp-content/upload
 s/2024/07/Schwester-Stern-LiederaturAbend-mvyEERx8O9.jpg
CATEGORIES:Veranstaltung
LOCATION:LFN-Büro\, Amtsgasse 11\, Tamsweg\, 5580\, Österreich
GEO:47.126164;13.812254
X-APPLE-STRUCTURED-LOCATION;VALUE=URI;X-ADDRESS=Amtsgasse 11\, Tamsweg\, 55
 80\, Österreich;X-APPLE-RADIUS=100;X-TITLE=LFN-Büro:geo:47.126164,13.812
 254
END:VEVENT
BEGIN:VTIMEZONE
TZID:Europe/Vienna
X-LIC-LOCATION:Europe/Vienna
BEGIN:DAYLIGHT
DTSTART:20240331T030000
TZOFFSETFROM:+0100
TZOFFSETTO:+0200
TZNAME:CEST
END:DAYLIGHT
END:VTIMEZONE
END:VCALENDAR