BEGIN:VCALENDAR
VERSION:2.0
PRODID:-//wp-events-plugin.com//6.6.3//EN
TZID:Europe/Vienna
X-WR-TIMEZONE:Europe/Vienna
BEGIN:VEVENT
UID:41@frauen-netzwerk.at
DTSTART;TZID=Europe/Vienna:20250614T130000
DTEND;TZID=Europe/Vienna:20250614T180000
DTSTAMP:20251115T210404Z
URL:https://www.frauen-netzwerk.at/veranstaltungen/make-up-farbberatung/
SUMMARY:Farbe\, Stil\, Hair & Make-Up
DESCRIPTION:Farbe\, Stil\, Hair &amp\; Make-Up\nWorkshop mit Cornelia Trink
 o und Christine Lamm\nFarbe &amp\; Stil\n\nFarbsystem &amp\; Farbtypen: E
 inführung in die Welt der Farben\nFarben &amp\; Wirkung: Wie beeinflusse
 n sie Sichtbarkeit &amp\; Wohlbefinden?\nFarbtyp-Analyse live: Anhand wec
 hselnder Teilnehmerinnen erleben\nBodytyp entdecken: Grundprinzipien für
  vorteilhafte Schnitte\nStyling-Tipps: Farbverteilung &amp\; Proportionen
  clever nutzen\nMitmach-Elemente: Deine Fragen zu mitgebrachten Kleidungs
 stücken\n\nHair &amp\; Make-Up\n\nNatürliches Make-up: Frische Ausstrah
 lung in wenigen Minuten\nGrundierung: Die perfekte Farbe für deinen Haut
 ton\nPinsel &amp\; Techniken: Weniger ist mehr!\nFrisuren leicht gemacht:
  Flecht- &amp\; Stylingtechniken zum Nachmachen\nIndividuelle Praxis: Di
 rekt ausprobieren mit Profi-Tipps\n\n14.6.2025 | 13:00 - 18:00 UhrQ4 Sozia
 lzentrum | Postplatz 4 | 5580 TamswegEUR 177\,-
ATTACH;FMTTYPE=image/jpeg:https://www.frauen-netzwerk.at/wp-content/upload
 s/2025/05/flyer_beautyworkshop_WEB.jpg
CATEGORIES:Veranstaltung
LOCATION:Q4\,  Postplatz 4\, Tamsweg\, 5580\, Österreich
GEO:47.126731;13.808928
X-APPLE-STRUCTURED-LOCATION;VALUE=URI;X-ADDRESS= Postplatz 4\, Tamsweg\, 55
 80\, Österreich;X-APPLE-RADIUS=100;X-TITLE=Q4:geo:47.126731,13.808928
END:VEVENT
BEGIN:VTIMEZONE
TZID:Europe/Vienna
X-LIC-LOCATION:Europe/Vienna
BEGIN:DAYLIGHT
DTSTART:20250330T030000
TZOFFSETFROM:+0100
TZOFFSETTO:+0200
TZNAME:CEST
END:DAYLIGHT
END:VTIMEZONE
END:VCALENDAR