BEGIN:VCALENDAR
VERSION:2.0
PRODID:-//wp-events-plugin.com//6.6.3//EN
TZID:Europe/Vienna
X-WR-TIMEZONE:Europe/Vienna
BEGIN:VEVENT
UID:42@frauen-netzwerk.at
DTSTART;TZID=Europe/Vienna:20250627T170000
DTEND;TZID=Europe/Vienna:20250627T200000
DTSTAMP:20251115T210411Z
URL:https://www.frauen-netzwerk.at/veranstaltungen/mental-load/
SUMMARY:Mental Load - Die unsichtbare Last
DESCRIPTION:Die unsichtbare Last - Mental Load\nVortrag mit Silvia Leitner-
 Trinkl\n3-stündiger Vortrag über mentale Belastung\, Erschöpfung und We
 ge zu mehr Leichtigkeit im Alltag\nIm Alltag jonglieren viele Menschen mit
  zahllosen Aufgaben – doch häufig bleibt eine Belastung unsichtbar: die
  mentale Verantwortung für Organisation\, Planung und das „an alles den
 ken“. Diese Last trägt einen Namen: Mental Load.\nIn diesem Vortrag erf
 ährst du:\n\n\nWas genau hinter dem Begriff „Mental Load“ steckt\n\n\
 nWarum besonders Frauen* betroffen sind\n\n\nWelche Auswirkungen die unsic
 htbare Belastung auf Gesundheit und Wohlbefinden hat\n\n\nWie Mental Load 
 zu chronischer Erschöpfung führen kann\n\n\nWelche Wege es gibt\, um Ent
 lastung zu schaffen und Verantwortung neu zu verteilen\n\n\nDer Vortrag ri
 chtet sich an alle\, die den täglichen Spagat zwischen Beruf\, Familie un
 d privaten Verpflichtungen besser verstehen – und vor allem besser bewä
 ltigen – möchten.\nMit praktischen Impulsen\, Reflexionsfragen und allt
 agsnahen Lösungsansätzen zeigt der Vortrag auf\, wie mehr Leichtigkeit\,
  Klarheit und Gleichgewicht im (Familien-)Alltag möglich werden.\n27.6.20
 25 | 17:00 - 20:00 UhrQ4 Sozialzentrum | Postplatz 4 | 5580 TamswegTeilnah
 me kostenlos\, eine Reservierung ist unbedingt nötig
ATTACH;FMTTYPE=image/jpeg:https://www.frauen-netzwerk.at/wp-content/upload
 s/2025/05/flyer_mentalload_WEB.png
CATEGORIES:Veranstaltung
LOCATION:Q4\,  Postplatz 4\, Tamsweg\, 5580\, Österreich
GEO:47.126731;13.808928
X-APPLE-STRUCTURED-LOCATION;VALUE=URI;X-ADDRESS= Postplatz 4\, Tamsweg\, 55
 80\, Österreich;X-APPLE-RADIUS=100;X-TITLE=Q4:geo:47.126731,13.808928
END:VEVENT
BEGIN:VTIMEZONE
TZID:Europe/Vienna
X-LIC-LOCATION:Europe/Vienna
BEGIN:DAYLIGHT
DTSTART:20250330T030000
TZOFFSETFROM:+0100
TZOFFSETTO:+0200
TZNAME:CEST
END:DAYLIGHT
END:VTIMEZONE
END:VCALENDAR