BEGIN:VCALENDAR
VERSION:2.0
PRODID:-//wp-events-plugin.com//6.6.3//EN
TZID:Europe/Vienna
X-WR-TIMEZONE:Europe/Vienna
BEGIN:VEVENT
UID:22@frauen-netzwerk.at
DTSTART;TZID=Europe/Vienna:20241009T183000
DTEND;TZID=Europe/Vienna:20241009T200000
DTSTAMP:20251115T205921Z
URL:https://www.frauen-netzwerk.at/veranstaltungen/mentoring-gruppe-fuer-u
 nternehmerinnen-mit-sonia-sagmeister/
SUMMARY:Mentoring Gruppe für Unternehmerinnen mit Sonia Sagmeister
DESCRIPTION:Herzliche Einladung an dich: \nprofitiere von der dynamischen 
 Community und werde Teil unserer Mentoring-Gruppe für Unternehmerinnen un
 d die\, die es noch werden wollen und erlebe\, wie du deine Ziele mit de
 r richtigen Unterstützung schneller erreichst.\nEinmal im Monat treffen w
 ir uns\, um uns auszutauschen\, voneinander zu lernen und uns gegenseitig 
 zu unterstützen und inspirieren. Sonia Sagmeister (WKS-Obfrau Direktvertr
 ieb) teilt ihre wertvollen Erfahrungen aus über 20 Jahren Selbstständigk
 eit mit uns.\nDie Teilnahme ist kostenlos!\nDoch Achtung: Die Plätze sind
  auf 7 Personen begrenzt\, also melde dich schnell an und sichere dir dein
 en Platz in dieser starken Gemeinschaft.\n&nbsp\;
ATTACH;FMTTYPE=image/jpeg:https://www.frauen-netzwerk.at/wp-content/upload
 s/2024/09/MentoringGruppe-cqhqK4L94v.jpg
CATEGORIES:Veranstaltung
LOCATION:LFN-Büro\, Amtsgasse 11\, Tamsweg\, 5580\, Österreich
GEO:47.126164;13.812254
X-APPLE-STRUCTURED-LOCATION;VALUE=URI;X-ADDRESS=Amtsgasse 11\, Tamsweg\, 55
 80\, Österreich;X-APPLE-RADIUS=100;X-TITLE=LFN-Büro:geo:47.126164,13.812
 254
END:VEVENT
BEGIN:VTIMEZONE
TZID:Europe/Vienna
X-LIC-LOCATION:Europe/Vienna
BEGIN:DAYLIGHT
DTSTART:20240331T030000
TZOFFSETFROM:+0100
TZOFFSETTO:+0200
TZNAME:CEST
END:DAYLIGHT
END:VTIMEZONE
END:VCALENDAR