BEGIN:VCALENDAR
VERSION:2.0
PRODID:-//wp-events-plugin.com//6.6.3//EN
TZID:Europe/Vienna
X-WR-TIMEZONE:Europe/Vienna
BEGIN:VEVENT
UID:74@frauen-netzwerk.at
DTSTART;TZID=Europe/Vienna:20260623T183000
DTEND;TZID=Europe/Vienna:20260623T200000
DTSTAMP:20260422T110822Z
URL:https://www.frauen-netzwerk.at/veranstaltungen/money-matters-finanziel
 l-selbstbestimmt-vortrag-2026/
SUMMARY:Finanziell selbstbestimmt statt abhängig | Online-Vortrag
DESCRIPTION:Dieser Online-Vortrag richtet sich an Frauen*\, die ihre Finanz
 en besser verstehen und ihre finanzielle Situation aktiv und selbstbestimm
 t gestalten möchten. Verständlich erklärt und praxisnah vermittelt von 
 Doris Rumplmair.
ATTACH;FMTTYPE=image/jpeg:https://www.frauen-netzwerk.at/wp-content/upload
 s/2026/04/va_webseite_moneymatters.png
CATEGORIES:Veranstaltung
END:VEVENT
BEGIN:VTIMEZONE
TZID:Europe/Vienna
X-LIC-LOCATION:Europe/Vienna
BEGIN:DAYLIGHT
DTSTART:20260329T030000
TZOFFSETFROM:+0100
TZOFFSETTO:+0200
TZNAME:CEST
END:DAYLIGHT
END:VTIMEZONE
END:VCALENDAR