BEGIN:VCALENDAR
VERSION:2.0
PRODID:-//wp-events-plugin.com//6.6.3//EN
TZID:Europe/Vienna
X-WR-TIMEZONE:Europe/Vienna
BEGIN:VEVENT
UID:36@frauen-netzwerk.at
DTSTART;TZID=Europe/Vienna:20250321T153000
DTEND;TZID=Europe/Vienna:20250321T183000
DTSTAMP:20251115T210208Z
URL:https://www.frauen-netzwerk.at/veranstaltungen/money-mindset-workshop/
SUMMARY:Workshop "Psychologie des Geldes - Money Mindset"
DESCRIPTION:FRAU SCHAUT AUFS GELD Psychologie des Geldes - Money Mindset\nW
 ann: 21. März\, um 15:30 UhrWo: LBS Tamsweg | im Kommunikationsraum | Sc
 hießstattstraße 19Kosten: 10 EUR | Kostenlos für Mitglieder\nInhalte:\n
 \nWelche Glaubenssätze hast du mit dem Thema Geld?\nWelche Muster hast du
  mit dem Umgang mit Geld?\nWelche Bedeutung hat Geld für dich persönlich
 ?\nEin positives Mindset lehrt uns\, wie wir selbstbewusst und erfolgreich
  mit Geld umgehen!\n\nWorkshopleitung: Mag. Andrea Kirchtag | Geschäftsf
 ührerin\, Mediatorin &amp\; Coach\, Frau &amp\; Arbeit Salzburg\n&nbsp\;
ATTACH;FMTTYPE=image/jpeg:https://www.frauen-netzwerk.at/wp-content/upload
 s/2025/02/Frau-schaut-aufs-Geld-A5-1.jpg
CATEGORIES:Veranstaltung
LOCATION:Lungauer Kulturvereinigung\, Hatheyergasse 2\, Tamsweg\, 5580\, Ö
 sterreich
GEO:47.126156;13.80926
X-APPLE-STRUCTURED-LOCATION;VALUE=URI;X-ADDRESS=Hatheyergasse 2\, Tamsweg\,
  5580\, Österreich;X-APPLE-RADIUS=100;X-TITLE=Lungauer Kulturvereinigung:
 geo:47.126156,13.80926
END:VEVENT
BEGIN:VTIMEZONE
TZID:Europe/Vienna
X-LIC-LOCATION:Europe/Vienna
BEGIN:STANDARD
DTSTART:20241027T020000
TZOFFSETFROM:+0200
TZOFFSETTO:+0100
TZNAME:CET
END:STANDARD
END:VTIMEZONE
END:VCALENDAR