BEGIN:VCALENDAR
VERSION:2.0
PRODID:-//wp-events-plugin.com//6.6.3//EN
TZID:Europe/Vienna
X-WR-TIMEZONE:Europe/Vienna
BEGIN:VEVENT
UID:46@frauen-netzwerk.at
DTSTART;TZID=Europe/Vienna:20250912T170000
DTEND;TZID=Europe/Vienna:20250912T190000
DTSTAMP:20251115T210502Z
URL:https://www.frauen-netzwerk.at/veranstaltungen/polizei-vortrag/
SUMMARY:Stark &amp\; sicher im öffentlichen Raum | Vortrag
DESCRIPTION:Bezirksinspektorin Sarah Dankl vermittelt praxisnahe Strategien
  zur Gefahrenwahrnehmung\, zeigt wirksame Verhaltensweisen im Ernstfall un
 d stellt Unterstützungsangebote vor\, um Sicherheit und Selbstvertrauen i
 m öffentlichen Raum zu stärken.
ATTACH;FMTTYPE=image/jpeg:https://www.frauen-netzwerk.at/wp-content/upload
 s/2025/08/flyer_polizei_v5.jpg
CATEGORIES:Veranstaltung
LOCATION:Q4\,  Postplatz 4\, Tamsweg\, 5580\, Österreich
GEO:47.126731;13.808928
X-APPLE-STRUCTURED-LOCATION;VALUE=URI;X-ADDRESS= Postplatz 4\, Tamsweg\, 55
 80\, Österreich;X-APPLE-RADIUS=100;X-TITLE=Q4:geo:47.126731,13.808928
END:VEVENT
BEGIN:VTIMEZONE
TZID:Europe/Vienna
X-LIC-LOCATION:Europe/Vienna
BEGIN:DAYLIGHT
DTSTART:20250330T030000
TZOFFSETFROM:+0100
TZOFFSETTO:+0200
TZNAME:CEST
END:DAYLIGHT
END:VTIMEZONE
END:VCALENDAR