BEGIN:VCALENDAR
VERSION:2.0
PRODID:-//wp-events-plugin.com//6.6.3//EN
TZID:Europe/Vienna
X-WR-TIMEZONE:Europe/Vienna
BEGIN:VEVENT
UID:5@frauen-netzwerk.at
DTSTART;TZID=Europe/Vienna:20240517T160000
DTEND;TZID=Europe/Vienna:20240517T180000
DTSTAMP:20251115T205539Z
URL:https://www.frauen-netzwerk.at/veranstaltungen/rueckenfit-workshop/
SUMMARY:Rückenfit Workshop
DESCRIPTION:Das Lungauer Frauennetzwerk veranstaltet zusammen mit Silvia Ga
 utsch einen Rückenfit Workshop. Du interessierst dich für die Themen Bew
 egung und Rückenfitness oder möchtest einfach wissen\, wie du mehr Beweg
 ung in deinen Alltag integrieren kannst?\nDann sei auch du dabei!\n\n&nbsp
 \;\n\n                                             
               
ATTACH;FMTTYPE=image/jpeg:https://www.frauen-netzwerk.at/wp-content/upload
 s/2024/05/Rueckenfit_Flyer_vorne-ImpocdRc4p.jpg
CATEGORIES:Veranstaltung
LOCATION:Bewegungsraum der LBS Tamsweg\, Schießstattstraße 19\, Tamsweg\,
  5580\, Österreich
GEO:47.123493;13.811453
X-APPLE-STRUCTURED-LOCATION;VALUE=URI;X-ADDRESS=Schießstattstraße 19\, Ta
 msweg\, 5580\, Österreich;X-APPLE-RADIUS=100;X-TITLE=Bewegungsraum der LB
 S Tamsweg:geo:47.123493,13.811453
END:VEVENT
BEGIN:VTIMEZONE
TZID:Europe/Vienna
X-LIC-LOCATION:Europe/Vienna
BEGIN:DAYLIGHT
DTSTART:20240331T030000
TZOFFSETFROM:+0100
TZOFFSETTO:+0200
TZNAME:CEST
END:DAYLIGHT
END:VTIMEZONE
END:VCALENDAR