BEGIN:VCALENDAR
VERSION:2.0
PRODID:-//wp-events-plugin.com//6.6.3//EN
TZID:Europe/Vienna
X-WR-TIMEZONE:Europe/Vienna
BEGIN:VEVENT
UID:13@frauen-netzwerk.at
DTSTART;TZID=Europe/Vienna:20241203T090000
DTEND;TZID=Europe/Vienna:20241203T110000
DTSTAMP:20251115T205806Z
URL:https://www.frauen-netzwerk.at/veranstaltungen/sprachcafe-dezember/
SUMMARY:Sprachcafé Dezember
DESCRIPTION:Wir möchten euch herzlich zum Sprachcafé im Dezember einladen
 . Es findet am Dienstag\, den 03. Dezember im LFN-Büro in Tamsweg statt.W
 ir freuen uns auf euch!
ATTACH;FMTTYPE=image/jpeg:https://www.frauen-netzwerk.at/wp-content/upload
 s/2024/07/flyer_sprachcafe_03-V4ChEUzf8A.jpg
CATEGORIES:Veranstaltung
LOCATION:LFN-Büro\, Amtsgasse 11\, Tamsweg\, 5580\, Österreich
GEO:47.126164;13.812254
X-APPLE-STRUCTURED-LOCATION;VALUE=URI;X-ADDRESS=Amtsgasse 11\, Tamsweg\, 55
 80\, Österreich;X-APPLE-RADIUS=100;X-TITLE=LFN-Büro:geo:47.126164,13.812
 254
END:VEVENT
BEGIN:VTIMEZONE
TZID:Europe/Vienna
X-LIC-LOCATION:Europe/Vienna
BEGIN:STANDARD
DTSTART:20241027T020000
TZOFFSETFROM:+0200
TZOFFSETTO:+0100
TZNAME:CET
END:STANDARD
END:VTIMEZONE
END:VCALENDAR