BEGIN:VCALENDAR
VERSION:2.0
PRODID:-//wp-events-plugin.com//6.6.3//EN
TZID:Europe/Vienna
X-WR-TIMEZONE:Europe/Vienna
BEGIN:VEVENT
UID:38@frauen-netzwerk.at
DTSTART;TZID=Europe/Vienna:20250509T170000
DTEND;TZID=Europe/Vienna:20250509T200000
DTSTAMP:20251115T210325Z
URL:https://www.frauen-netzwerk.at/veranstaltungen/start-your-change/
SUMMARY:Start Your Change
DESCRIPTION:Start Your Change\nWorkshop mit Ingrid Gambs\nDrehst du dich im
  Kreis? Bist du immer mehr müde und demotiviert? Erwischt du dich oft bei
  negativen Gedanken? Wünscht du dir eine Veränderung?\nIn diesem Worksho
 p lernst du\, wie du deine Energie ändern kannst\, du zu Veränderung kom
 mst\, und wie es dein Mindset beeinflusst.\n9.5.2025 | 17:00 - 20:00 UhrQ4
  Sozialzentrum | Postplatz 4 | 5580 TamswegEUR 45 | EUR 35 für Mitglieder
ATTACH;FMTTYPE=image/jpeg:https://www.frauen-netzwerk.at/wp-content/upload
 s/2025/04/flyer_ingridgambs_WEB-2.jpg
CATEGORIES:Veranstaltung
LOCATION:Q4\,  Postplatz 4\, Tamsweg\, 5580\, Österreich
GEO:47.126731;13.808928
X-APPLE-STRUCTURED-LOCATION;VALUE=URI;X-ADDRESS= Postplatz 4\, Tamsweg\, 55
 80\, Österreich;X-APPLE-RADIUS=100;X-TITLE=Q4:geo:47.126731,13.808928
END:VEVENT
BEGIN:VTIMEZONE
TZID:Europe/Vienna
X-LIC-LOCATION:Europe/Vienna
BEGIN:DAYLIGHT
DTSTART:20250330T030000
TZOFFSETFROM:+0100
TZOFFSETTO:+0200
TZNAME:CEST
END:DAYLIGHT
END:VTIMEZONE
END:VCALENDAR